BEGIN:VCALENDAR
VERSION:2.0
PRODID:-//Reial Acadèmia Catalana de Belles Arts de Sant Jordi - ECPv6.7.0//NONSGML v1.0//EN
CALSCALE:GREGORIAN
METHOD:PUBLISH
X-WR-CALNAME:Reial Acadèmia Catalana de Belles Arts de Sant Jordi
X-ORIGINAL-URL:https://www.racba.org
X-WR-CALDESC:Events for Reial Acadèmia Catalana de Belles Arts de Sant Jordi
REFRESH-INTERVAL;VALUE=DURATION:PT1H
X-Robots-Tag:noindex
X-PUBLISHED-TTL:PT1H
BEGIN:VTIMEZONE
TZID:Europe/Madrid
BEGIN:DAYLIGHT
TZOFFSETFROM:+0100
TZOFFSETTO:+0200
TZNAME:CEST
DTSTART:20240331T010000
END:DAYLIGHT
BEGIN:STANDARD
TZOFFSETFROM:+0200
TZOFFSETTO:+0100
TZNAME:CET
DTSTART:20241027T010000
END:STANDARD
END:VTIMEZONE
BEGIN:VEVENT
DTSTART;TZID=Europe/Madrid:20240918T190000
DTEND;TZID=Europe/Madrid:20240918T200000
DTSTAMP:20260423T125454
CREATED:20240703T072902Z
LAST-MODIFIED:20240703T072902Z
UID:32557-1726686000-1726689600@www.racba.org
SUMMARY:Recepció acadèmics d'honor i corresponents
DESCRIPTION:INVITACIO 18 setembre
URL:https://www.racba.org/activitats/recepcio-academics-dhonor-i-corresponents/
LOCATION:Reial Acadèmia Catalana de Belles Arts de Sant Jordi\, Passeig d'Isabel II\, 1\, Barcelona\, Barcelona\, 08003\, Espanya
CATEGORIES:Sessions públiques
ATTACH;FMTTYPE=image/jpeg:https://www.racba.org/wp-content/uploads/2023/01/CAT_658.jpg
END:VEVENT
END:VCALENDAR