BEGIN:VCALENDAR
VERSION:2.0
PRODID:-//Reial Acadèmia Catalana de Belles Arts de Sant Jordi - ECPv6.7.0//NONSGML v1.0//EN
CALSCALE:GREGORIAN
METHOD:PUBLISH
X-WR-CALNAME:Reial Acadèmia Catalana de Belles Arts de Sant Jordi
X-ORIGINAL-URL:https://www.racba.org
X-WR-CALDESC:Events for Reial Acadèmia Catalana de Belles Arts de Sant Jordi
REFRESH-INTERVAL;VALUE=DURATION:PT1H
X-Robots-Tag:noindex
X-PUBLISHED-TTL:PT1H
BEGIN:VTIMEZONE
TZID:Europe/Madrid
BEGIN:DAYLIGHT
TZOFFSETFROM:+0100
TZOFFSETTO:+0200
TZNAME:CEST
DTSTART:20260329T010000
END:DAYLIGHT
BEGIN:STANDARD
TZOFFSETFROM:+0200
TZOFFSETTO:+0100
TZNAME:CET
DTSTART:20261025T010000
END:STANDARD
END:VTIMEZONE
BEGIN:VEVENT
DTSTART;TZID=Europe/Madrid:20260603T093000
DTEND;TZID=Europe/Madrid:20260605T190000
DTSTAMP:20260422T130527
CREATED:20260416T081633Z
LAST-MODIFIED:20260416T081633Z
UID:37568-1780479000-1780686000@www.racba.org
SUMMARY:Congrés Internacional d'Arquitectura
DESCRIPTION:POSTER_06_CAT
URL:https://www.racba.org/activitats/congres-internacional-darquitectura/
LOCATION:Barcelona
CATEGORIES:Conferències i debats
ATTACH;FMTTYPE=image/jpeg:https://cdn1.racba.org/2026/03/11017-G_Joaquim-Chancho_.jpg
END:VEVENT
END:VCALENDAR