BEGIN:VCALENDAR
VERSION:2.0
PRODID:-//Reial Acadèmia Catalana de Belles Arts de Sant Jordi - ECPv6.15.20//NONSGML v1.0//EN
CALSCALE:GREGORIAN
METHOD:PUBLISH
X-WR-CALNAME:Reial Acadèmia Catalana de Belles Arts de Sant Jordi
X-ORIGINAL-URL:https://www.racba.org
X-WR-CALDESC:Esdeveniments per Reial Acadèmia Catalana de Belles Arts de Sant Jordi
REFRESH-INTERVAL;VALUE=DURATION:PT1H
X-Robots-Tag:noindex
X-PUBLISHED-TTL:PT1H
BEGIN:VTIMEZONE
TZID:Europe/Madrid
BEGIN:DAYLIGHT
TZOFFSETFROM:+0100
TZOFFSETTO:+0200
TZNAME:CEST
DTSTART:20230326T010000
END:DAYLIGHT
BEGIN:STANDARD
TZOFFSETFROM:+0200
TZOFFSETTO:+0100
TZNAME:CET
DTSTART:20231029T010000
END:STANDARD
BEGIN:DAYLIGHT
TZOFFSETFROM:+0100
TZOFFSETTO:+0200
TZNAME:CEST
DTSTART:20240331T010000
END:DAYLIGHT
BEGIN:STANDARD
TZOFFSETFROM:+0200
TZOFFSETTO:+0100
TZNAME:CET
DTSTART:20241027T010000
END:STANDARD
BEGIN:DAYLIGHT
TZOFFSETFROM:+0100
TZOFFSETTO:+0200
TZNAME:CEST
DTSTART:20250330T010000
END:DAYLIGHT
BEGIN:STANDARD
TZOFFSETFROM:+0200
TZOFFSETTO:+0100
TZNAME:CET
DTSTART:20251026T010000
END:STANDARD
BEGIN:DAYLIGHT
TZOFFSETFROM:+0100
TZOFFSETTO:+0200
TZNAME:CEST
DTSTART:20260329T010000
END:DAYLIGHT
BEGIN:STANDARD
TZOFFSETFROM:+0200
TZOFFSETTO:+0100
TZNAME:CET
DTSTART:20261025T010000
END:STANDARD
END:VTIMEZONE
BEGIN:VEVENT
DTSTART;TZID=Europe/Madrid:20241016T190000
DTEND;TZID=Europe/Madrid:20251231T203000
DTSTAMP:20260426T002620
CREATED:20241010T091104Z
LAST-MODIFIED:20241024T081742Z
UID:33237-1729105200-1767213000@www.racba.org
SUMMARY:250 anys dels ensenyaments artístics de Llotja
DESCRIPTION:L’any 1775 la Junta de Comerç instituïa l’Escola Gratuïta de Disseny que havia de servir per a la formació de joves aprenents d’art i d’oficis artístics. La constitució posterior de la Reial Acadèmia de Belles Arts de Sant Jordi (RACBASJ) va fer que la responsabilitat de l’Escola els\nfos traspassada. Amb el temps\, canvis de nom i de situacions administratives han separat les diverses entitats que constituien els estudis de Llotja. L’acadèmia va restar a la Casa Llotja\, mentre els ensenyaments artístics es van diversificar progressiament i van localitzar-se en\naltres espais. L’actual Escola d’Art i Superior de Disseny de Llotja\, la facultat de Belles Arts i l’Escola Tècnica Superior d’Arquitectura (ETSAB)\, són\, entre altres\, hereves d’aquell esdeveniment. \nAquest any 2025 és el nostre dos-cents cinquantè aniversari i hem decidit celebrar l’aniversari amb un seguit d’exposicions\, conferències\, jornades i altres actes culturals\, que tenen diverses seus\, sobretot les de l’Escola Llotja (Sant Andreu i Sant Gervasi) i de la RACBASJ. \nAl llarg de l’any assenyalarem i concretarem les activitats que es realitzaran. \nEl dia 23 de gener\, data d’inici del curs de 1775\, ho celebrarem al Saló de Cent de la Casa de la Ciutat. \nCalendari amb les activitats previstes (subjecte a possibles canvis).
URL:https://www.racba.org/activitats/250-anys-dels-ensenyaments-artistics-de-llotja/
LOCATION:Reial Acadèmia Catalana de Belles Arts de Sant Jordi\, Passeig d'Isabel II\, 1\, Barcelona\, Barcelona\, 08003\, Espanya
CATEGORIES:Sessions públiques
ATTACH;FMTTYPE=image/jpeg:https://www.racba.org/wp-content/uploads/2024/10/1475-D_Josep-Antoni-Trias-i-Tastas_retall-scaled.jpg
END:VEVENT
BEGIN:VEVENT
DTSTART;TZID=Europe/Madrid:20251201T180000
DTEND;TZID=Europe/Madrid:20251201T200000
DTSTAMP:20260426T002620
CREATED:20251125T171426Z
LAST-MODIFIED:20251125T171426Z
UID:36910-1764612000-1764619200@www.racba.org
SUMMARY:Presentació llibre
DESCRIPTION:Presentació L’art de pintar amb fusta
URL:https://www.racba.org/activitats/presentacio-llibre-9/
LOCATION:Reial Acadèmia Catalana de Belles Arts de Sant Jordi\, Passeig d'Isabel II\, 1\, Barcelona\, Barcelona\, 08003\, Espanya
CATEGORIES:Presentacions de llibres
ATTACH;FMTTYPE=image/jpeg:https://cdn1.racba.org/2025/10/5103-D_Album-Mila_Josep-Mirabent-i-Gatell_.jpg
END:VEVENT
BEGIN:VEVENT
DTSTART;TZID=Europe/Madrid:20251202T193000
DTEND;TZID=Europe/Madrid:20251202T203000
DTSTAMP:20260426T002620
CREATED:20251001T151216Z
LAST-MODIFIED:20251001T151216Z
UID:36674-1764703800-1764707400@www.racba.org
SUMMARY:Clàssica a la Reial Acadèmia
DESCRIPTION:523.- ESTIVILL RUIZ clarinet i piano dimarts 2 desembre Clàssica a la Reia…adèmia
URL:https://www.racba.org/activitats/classica-a-la-reial-academia-537/
LOCATION:Reial Acadèmia Catalana de Belles Arts de Sant Jordi\, Passeig d'Isabel II\, 1\, Barcelona\, Barcelona\, 08003\, Espanya
CATEGORIES:Concerts
ATTACH;FMTTYPE=image/jpeg:https://cdn1.racba.org/2025/09/2814_060-D_Joaquin-Mosteirin.jpg
END:VEVENT
BEGIN:VEVENT
DTSTART;TZID=Europe/Madrid:20251209T193000
DTEND;TZID=Europe/Madrid:20251209T203000
DTSTAMP:20260426T002620
CREATED:20251001T151357Z
LAST-MODIFIED:20251001T151357Z
UID:36679-1765308600-1765312200@www.racba.org
SUMMARY:Clàssica a la Reial Acadèmia
DESCRIPTION:524.- LAURA PARRA piano dimarts 9 desembre Clàs…adèmia
URL:https://www.racba.org/activitats/classica-a-la-reial-academia-538/
LOCATION:Reial Acadèmia Catalana de Belles Arts de Sant Jordi\, Passeig d'Isabel II\, 1\, Barcelona\, Barcelona\, 08003\, Espanya
CATEGORIES:Concerts
ATTACH;FMTTYPE=image/jpeg:https://cdn1.racba.org/2025/09/2814_024-D_Joaquin-Mosteirin.jpg
END:VEVENT
BEGIN:VEVENT
DTSTART;TZID=Europe/Madrid:20251211T170000
DTEND;TZID=Europe/Madrid:20251211T181500
DTSTAMP:20260426T002620
CREATED:20251216T095508Z
LAST-MODIFIED:20251216T102146Z
UID:36933-1765472400-1765476900@www.racba.org
SUMMARY:Visita alcalde Barcelona
DESCRIPTION:Us deixem unes imatges de la visita de l’alcalde de Barcelona i el seu equip a la nostra seu. Fotos de Júlia Arnau.
URL:https://www.racba.org/activitats/visita-alcalde-barcelona/
LOCATION:Reial Acadèmia Catalana de Belles Arts de Sant Jordi\, Passeig d'Isabel II\, 1\, Barcelona\, Barcelona\, 08003\, Espanya
CATEGORIES:Sessions públiques
ATTACH;FMTTYPE=image/jpeg:https://cdn1.racba.org/2025/09/2814_070-D_Joaquin-Mosteirin.jpg
END:VEVENT
BEGIN:VEVENT
DTSTART;TZID=Europe/Madrid:20251212T180000
DTEND;TZID=Europe/Madrid:20251212T193000
DTSTAMP:20260426T002620
CREATED:20251203T081304Z
LAST-MODIFIED:20251203T081304Z
UID:36920-1765562400-1765567800@www.racba.org
SUMMARY:Presentació llibre
DESCRIPTION:Valores Declarados
URL:https://www.racba.org/activitats/presentacio-llibre-11/
LOCATION:Reial Acadèmia Catalana de Belles Arts de Sant Jordi\, Passeig d'Isabel II\, 1\, Barcelona\, Barcelona\, 08003\, Espanya
CATEGORIES:Presentacions de llibres
ATTACH;FMTTYPE=image/jpeg:https://cdn1.racba.org/2025/09/4669-G_Isabel-Pons-Iranzo_.jpg
END:VEVENT
BEGIN:VEVENT
DTSTART;TZID=Europe/Madrid:20251215T180000
DTEND;TZID=Europe/Madrid:20251215T193000
DTSTAMP:20260426T002620
CREATED:20251202T110520Z
LAST-MODIFIED:20251202T110520Z
UID:36914-1765821600-1765827000@www.racba.org
SUMMARY:Presentació llibre
DESCRIPTION:InMonteSerrato
URL:https://www.racba.org/activitats/presentacio-llibre-10/
LOCATION:Reial Acadèmia Catalana de Belles Arts de Sant Jordi\, Passeig d'Isabel II\, 1\, Barcelona\, Barcelona\, 08003\, Espanya
CATEGORIES:Presentacions de llibres
ATTACH;FMTTYPE=image/jpeg:https://cdn1.racba.org/2025/09/2814_014-D_Joaquin-Mosteirin.jpg
END:VEVENT
BEGIN:VEVENT
DTSTART;TZID=Europe/Madrid:20251216T193000
DTEND;TZID=Europe/Madrid:20251216T203000
DTSTAMP:20260426T002620
CREATED:20251014T124751Z
LAST-MODIFIED:20251014T124751Z
UID:36839-1765913400-1765917000@www.racba.org
SUMMARY:Clàssica a la Reial Acadèmia
DESCRIPTION:525.- SEXTET RUERA 6 flautes i VILAPRINYÓ piano dimarts 16 desembre Clàs…..adèmia
URL:https://www.racba.org/activitats/classica-a-la-reial-academia-526/
LOCATION:Reial Acadèmia Catalana de Belles Arts de Sant Jordi\, Passeig d'Isabel II\, 1\, Barcelona\, Barcelona\, 08003\, Espanya
CATEGORIES:Concerts
ATTACH;FMTTYPE=image/jpeg:https://cdn1.racba.org/2025/10/5100-D_Album-Mila_Anonim_.jpg
END:VEVENT
BEGIN:VEVENT
DTSTART;TZID=Europe/Madrid:20251217T190000
DTEND;TZID=Europe/Madrid:20251217T203000
DTSTAMP:20260426T002620
CREATED:20251125T170654Z
LAST-MODIFIED:20251125T170654Z
UID:36899-1765998000-1766003400@www.racba.org
SUMMARY:Sessió pública
DESCRIPTION:Acte de cloenda dels 250 anys d’ensenyaments artístics de LlotjaINVITACIO DESEMBRE 25
URL:https://www.racba.org/activitats/sessio-publica-40/
LOCATION:Reial Acadèmia Catalana de Belles Arts de Sant Jordi\, Passeig d'Isabel II\, 1\, Barcelona\, Barcelona\, 08003\, Espanya
CATEGORIES:Sessions públiques
ATTACH;FMTTYPE=image/jpeg:https://cdn1.racba.org/2025/10/5107-D_Album-Mila_Tomas-Padro-i-Pedret_.jpg
END:VEVENT
BEGIN:VEVENT
DTSTART;TZID=Europe/Madrid:20251218T190000
DTEND;TZID=Europe/Madrid:20251218T200000
DTSTAMP:20260426T002620
CREATED:20251125T171024Z
LAST-MODIFIED:20251125T171225Z
UID:36904-1766084400-1766088000@www.racba.org
SUMMARY:Concert
DESCRIPTION:
URL:https://www.racba.org/activitats/concert-10/
LOCATION:Reial Acadèmia Catalana de Belles Arts de Sant Jordi\, Passeig d'Isabel II\, 1\, Barcelona\, Barcelona\, 08003\, Espanya
CATEGORIES:Concerts
ATTACH;FMTTYPE=image/jpeg:https://cdn1.racba.org/2025/10/5108-D_Album-Mila_Tomas-Padro-i-Pedret_.jpg
END:VEVENT
BEGIN:VEVENT
DTSTART;VALUE=DATE:20251229
DTEND;VALUE=DATE:20251230
DTSTAMP:20260426T002620
CREATED:20251218T140755Z
LAST-MODIFIED:20251218T140943Z
UID:36943-1766966400-1767052799@www.racba.org
SUMMARY:Tancat per vacances
DESCRIPTION:
URL:https://www.racba.org/activitats/tancat-per-vacances/
END:VEVENT
BEGIN:VEVENT
DTSTART;VALUE=DATE:20251230
DTEND;VALUE=DATE:20251231
DTSTAMP:20260426T002620
CREATED:20251218T140824Z
LAST-MODIFIED:20251218T141024Z
UID:36945-1767052800-1767139199@www.racba.org
SUMMARY:Tancat per vacances
DESCRIPTION:
URL:https://www.racba.org/activitats/tancat-per-vacances-2/
END:VEVENT
BEGIN:VEVENT
DTSTART;TZID=Europe/Madrid:20251231T080000
DTEND;TZID=Europe/Madrid:20251231T170000
DTSTAMP:20260426T002620
CREATED:20251218T140859Z
LAST-MODIFIED:20251218T140859Z
UID:36947-1767168000-1767200400@www.racba.org
SUMMARY:Tancat per vacances
DESCRIPTION:
URL:https://www.racba.org/activitats/tancat-per-vacances-3/
END:VEVENT
END:VCALENDAR