BEGIN:VCALENDAR
VERSION:2.0
PRODID:-//Reial Acadèmia Catalana de Belles Arts de Sant Jordi - ECPv6.15.20//NONSGML v1.0//EN
CALSCALE:GREGORIAN
METHOD:PUBLISH
X-WR-CALNAME:Reial Acadèmia Catalana de Belles Arts de Sant Jordi
X-ORIGINAL-URL:https://www.racba.org
X-WR-CALDESC:Esdeveniments per Reial Acadèmia Catalana de Belles Arts de Sant Jordi
REFRESH-INTERVAL;VALUE=DURATION:PT1H
X-Robots-Tag:noindex
X-PUBLISHED-TTL:PT1H
BEGIN:VTIMEZONE
TZID:Europe/Madrid
BEGIN:DAYLIGHT
TZOFFSETFROM:+0100
TZOFFSETTO:+0200
TZNAME:CEST
DTSTART:20250330T010000
END:DAYLIGHT
BEGIN:STANDARD
TZOFFSETFROM:+0200
TZOFFSETTO:+0100
TZNAME:CET
DTSTART:20251026T010000
END:STANDARD
BEGIN:DAYLIGHT
TZOFFSETFROM:+0100
TZOFFSETTO:+0200
TZNAME:CEST
DTSTART:20260329T010000
END:DAYLIGHT
BEGIN:STANDARD
TZOFFSETFROM:+0200
TZOFFSETTO:+0100
TZNAME:CET
DTSTART:20261025T010000
END:STANDARD
BEGIN:DAYLIGHT
TZOFFSETFROM:+0100
TZOFFSETTO:+0200
TZNAME:CEST
DTSTART:20270328T010000
END:DAYLIGHT
BEGIN:STANDARD
TZOFFSETFROM:+0200
TZOFFSETTO:+0100
TZNAME:CET
DTSTART:20271031T010000
END:STANDARD
END:VTIMEZONE
BEGIN:VEVENT
DTSTART;VALUE=DATE:20260102
DTEND;VALUE=DATE:20260103
DTSTAMP:20260425T232220
CREATED:20251218T141054Z
LAST-MODIFIED:20251218T141054Z
UID:36949-1767312000-1767398399@www.racba.org
SUMMARY:Tancat per vacances
DESCRIPTION:
URL:https://www.racba.org/activitats/tancat-per-vacances-4/
END:VEVENT
BEGIN:VEVENT
DTSTART;VALUE=DATE:20260105
DTEND;VALUE=DATE:20260106
DTSTAMP:20260425T232220
CREATED:20251218T141131Z
LAST-MODIFIED:20251218T141131Z
UID:36952-1767571200-1767657599@www.racba.org
SUMMARY:Tancat per vacances
DESCRIPTION:
URL:https://www.racba.org/activitats/tancat-per-vacances-5/
END:VEVENT
BEGIN:VEVENT
DTSTART;TZID=Europe/Madrid:20260113T193000
DTEND;TZID=Europe/Madrid:20260113T203000
DTSTAMP:20260425T232220
CREATED:20251014T124947Z
LAST-MODIFIED:20251014T124947Z
UID:36844-1768332600-1768336200@www.racba.org
SUMMARY:Clàssica a la Reial Acadèmia
DESCRIPTION:526.- EBENUM DUO violí i piano dimarts 13 gener Clàs…adèmia
URL:https://www.racba.org/activitats/classica-a-la-reial-academia-539/
LOCATION:Reial Acadèmia Catalana de Belles Arts de Sant Jordi\, Passeig d'Isabel II\, 1\, Barcelona\, Barcelona\, 08003\, Espanya
CATEGORIES:Concerts
ATTACH;FMTTYPE=image/jpeg:https://cdn1.racba.org/2025/10/6605-D_Album-Mila_Agusti-Rigalt-i-Cortiella_.jpg
END:VEVENT
BEGIN:VEVENT
DTSTART;TZID=Europe/Madrid:20260120T193000
DTEND;TZID=Europe/Madrid:20260120T203000
DTSTAMP:20260425T232220
CREATED:20251014T125146Z
LAST-MODIFIED:20260119T100502Z
UID:36849-1768937400-1768941000@www.racba.org
SUMMARY:Clàssica a la Reial Acadèmia
DESCRIPTION:527.- JOSEP MA BALANYÀ piano dimarts 20 gener Clàs…adèmia
URL:https://www.racba.org/activitats/classica-a-la-reial-academia-540/
LOCATION:Reial Acadèmia Catalana de Belles Arts de Sant Jordi\, Passeig d'Isabel II\, 1\, Barcelona\, Barcelona\, 08003\, Espanya
CATEGORIES:Concerts
ATTACH;FMTTYPE=image/jpeg:https://cdn1.racba.org/2025/10/5103-D_Album-Mila_Josep-Mirabent-i-Gatell_.jpg
END:VEVENT
BEGIN:VEVENT
DTSTART;TZID=Europe/Madrid:20260127T193000
DTEND;TZID=Europe/Madrid:20260127T203000
DTSTAMP:20260425T232220
CREATED:20251002T074147Z
LAST-MODIFIED:20251014T081902Z
UID:36684-1769542200-1769545800@www.racba.org
SUMMARY:Programa Clàssica a la Reial Acadèmia
DESCRIPTION:TARDOR_HIVERN_2025-2
URL:https://www.racba.org/activitats/programa-classica-a-la-reial-academia-4/
LOCATION:Reial Acadèmia Catalana de Belles Arts de Sant Jordi\, Passeig d'Isabel II\, 1\, Barcelona\, Barcelona\, 08003\, Espanya
CATEGORIES:Concerts
ATTACH;FMTTYPE=image/jpeg:https://cdn1.racba.org/2025/10/2814_089-D_Joaquin-Mosteirin.jpg
END:VEVENT
BEGIN:VEVENT
DTSTART;TZID=Europe/Madrid:20260127T193000
DTEND;TZID=Europe/Madrid:20260127T203000
DTSTAMP:20260425T232221
CREATED:20251118T165527Z
LAST-MODIFIED:20251118T165527Z
UID:36892-1769542200-1769545800@www.racba.org
SUMMARY:Clàssica a la Reial Acadèmia
DESCRIPTION:528.- Clàssic BCN fl vi va vc clav dimarts 27 gener Clàs…adèmia
URL:https://www.racba.org/activitats/classica-a-la-reial-academia-541/
LOCATION:Reial Acadèmia Catalana de Belles Arts de Sant Jordi\, Passeig d'Isabel II\, 1\, Barcelona\, Barcelona\, 08003\, Espanya
CATEGORIES:Concerts
ATTACH;FMTTYPE=image/jpeg:https://cdn1.racba.org/2023/01/1175-D_Lluis-Rigalt.jpg
END:VEVENT
END:VCALENDAR