BEGIN:VCALENDAR
VERSION:2.0
PRODID:-//Reial Acadèmia Catalana de Belles Arts de Sant Jordi - ECPv6.15.20//NONSGML v1.0//EN
CALSCALE:GREGORIAN
METHOD:PUBLISH
X-WR-CALNAME:Reial Acadèmia Catalana de Belles Arts de Sant Jordi
X-ORIGINAL-URL:https://www.racba.org
X-WR-CALDESC:Esdeveniments per Reial Acadèmia Catalana de Belles Arts de Sant Jordi
REFRESH-INTERVAL;VALUE=DURATION:PT1H
X-Robots-Tag:noindex
X-PUBLISHED-TTL:PT1H
BEGIN:VTIMEZONE
TZID:Europe/Madrid
BEGIN:DAYLIGHT
TZOFFSETFROM:+0100
TZOFFSETTO:+0200
TZNAME:CEST
DTSTART:20250330T010000
END:DAYLIGHT
BEGIN:STANDARD
TZOFFSETFROM:+0200
TZOFFSETTO:+0100
TZNAME:CET
DTSTART:20251026T010000
END:STANDARD
BEGIN:DAYLIGHT
TZOFFSETFROM:+0100
TZOFFSETTO:+0200
TZNAME:CEST
DTSTART:20260329T010000
END:DAYLIGHT
BEGIN:STANDARD
TZOFFSETFROM:+0200
TZOFFSETTO:+0100
TZNAME:CET
DTSTART:20261025T010000
END:STANDARD
BEGIN:DAYLIGHT
TZOFFSETFROM:+0100
TZOFFSETTO:+0200
TZNAME:CEST
DTSTART:20270328T010000
END:DAYLIGHT
BEGIN:STANDARD
TZOFFSETFROM:+0200
TZOFFSETTO:+0100
TZNAME:CET
DTSTART:20271031T010000
END:STANDARD
END:VTIMEZONE
BEGIN:VEVENT
DTSTART;TZID=Europe/Madrid:20260210T193000
DTEND;TZID=Europe/Madrid:20260210T203000
DTSTAMP:20260425T203913
CREATED:20260115T095101Z
LAST-MODIFIED:20260115T095101Z
UID:37130-1770751800-1770755400@www.racba.org
SUMMARY:Clàssica a la Reial Acadèmia
DESCRIPTION:530.- ACOSTA GULINO guit i piano dimarts 10 febrer HIVERN PRIMAVERA 2026
URL:https://www.racba.org/activitats/classica-a-la-reial-academia-543/
LOCATION:Reial Acadèmia Catalana de Belles Arts de Sant Jordi\, Passeig d'Isabel II\, 1\, Barcelona\, Barcelona\, 08003\, Espanya
CATEGORIES:Concerts
ATTACH;FMTTYPE=image/jpeg:https://cdn1.racba.org/2023/01/1386-D_Lluis-Rigalt.jpg
END:VEVENT
BEGIN:VEVENT
DTSTART;TZID=Europe/Madrid:20260217T193000
DTEND;TZID=Europe/Madrid:20260217T203000
DTSTAMP:20260425T203913
CREATED:20260115T095217Z
LAST-MODIFIED:20260115T095217Z
UID:37135-1771356600-1771360200@www.racba.org
SUMMARY:Clàssica a la Reial Acadèmia
DESCRIPTION:531.- MARIA PAUNER piano dimarts 17 febrer HIVERN PRIMAVERA 2026
URL:https://www.racba.org/activitats/classica-a-la-reial-academia-544/
LOCATION:Reial Acadèmia Catalana de Belles Arts de Sant Jordi\, Passeig d'Isabel II\, 1\, Barcelona\, Barcelona\, 08003\, Espanya
CATEGORIES:Concerts
ATTACH;FMTTYPE=image/jpeg:https://cdn1.racba.org/2023/01/708_Manuel_Rocamora-i-Vidal_-scaled.jpg
END:VEVENT
BEGIN:VEVENT
DTSTART;TZID=Europe/Madrid:20260218T190000
DTEND;TZID=Europe/Madrid:20260218T203000
DTSTAMP:20260425T203913
CREATED:20260204T133706Z
LAST-MODIFIED:20260204T133722Z
UID:37164-1771441200-1771446600@www.racba.org
SUMMARY:Conferència
DESCRIPTION:INVITACIO 18 FEBRER
URL:https://www.racba.org/activitats/conferencia-3/
LOCATION:Reial Acadèmia Catalana de Belles Arts de Sant Jordi\, Passeig d'Isabel II\, 1\, Barcelona\, Barcelona\, 08003\, Espanya
CATEGORIES:Conferències i debats,Sessions públiques
ATTACH;FMTTYPE=image/jpeg:https://cdn1.racba.org/2025/09/2814_050-D_Joaquin-Mosteirin.jpg
END:VEVENT
BEGIN:VEVENT
DTSTART;TZID=Europe/Madrid:20260224T193000
DTEND;TZID=Europe/Madrid:20260224T203000
DTSTAMP:20260425T203914
CREATED:20260115T095347Z
LAST-MODIFIED:20260224T132037Z
UID:37140-1771961400-1771965000@www.racba.org
SUMMARY:Clàssica a la Reial Acadèmia
DESCRIPTION:Cancel·lat \n532.- SERRA ROMERO flauta i piano BACH dimarts 24 febrer 19.30h HIVERN PRI… 2026
URL:https://www.racba.org/activitats/classica-a-la-reial-academia-545/
LOCATION:Reial Acadèmia Catalana de Belles Arts de Sant Jordi\, Passeig d'Isabel II\, 1\, Barcelona\, Barcelona\, 08003\, Espanya
CATEGORIES:Concerts
ATTACH;FMTTYPE=image/jpeg:https://cdn1.racba.org/2026/01/2541-D_Enric-Monserda-i-Vidal.jpg
END:VEVENT
END:VCALENDAR