BEGIN:VCALENDAR
VERSION:2.0
PRODID:-//Reial Acadèmia Catalana de Belles Arts de Sant Jordi - ECPv6.15.20//NONSGML v1.0//EN
CALSCALE:GREGORIAN
METHOD:PUBLISH
X-ORIGINAL-URL:https://www.racba.org
X-WR-CALDESC:Esdeveniments per Reial Acadèmia Catalana de Belles Arts de Sant Jordi
REFRESH-INTERVAL;VALUE=DURATION:PT1H
X-Robots-Tag:noindex
X-PUBLISHED-TTL:PT1H
BEGIN:VTIMEZONE
TZID:Europe/Madrid
BEGIN:DAYLIGHT
TZOFFSETFROM:+0100
TZOFFSETTO:+0200
TZNAME:CEST
DTSTART:20250330T010000
END:DAYLIGHT
BEGIN:STANDARD
TZOFFSETFROM:+0200
TZOFFSETTO:+0100
TZNAME:CET
DTSTART:20251026T010000
END:STANDARD
BEGIN:DAYLIGHT
TZOFFSETFROM:+0100
TZOFFSETTO:+0200
TZNAME:CEST
DTSTART:20260329T010000
END:DAYLIGHT
BEGIN:STANDARD
TZOFFSETFROM:+0200
TZOFFSETTO:+0100
TZNAME:CET
DTSTART:20261025T010000
END:STANDARD
BEGIN:DAYLIGHT
TZOFFSETFROM:+0100
TZOFFSETTO:+0200
TZNAME:CEST
DTSTART:20270328T010000
END:DAYLIGHT
BEGIN:STANDARD
TZOFFSETFROM:+0200
TZOFFSETTO:+0100
TZNAME:CET
DTSTART:20271031T010000
END:STANDARD
END:VTIMEZONE
BEGIN:VEVENT
DTSTART;TZID=Europe/Madrid:20260303T193000
DTEND;TZID=Europe/Madrid:20260303T203000
DTSTAMP:20260425T170306
CREATED:20260115T095619Z
LAST-MODIFIED:20260115T095619Z
UID:37145-1772566200-1772569800@www.racba.org
SUMMARY:Clàssica a la Reial Acadèmia
DESCRIPTION:533.-GUILLEM LEÓN piano dimarts 3 març 19.30h HIVERN PRIMAVERA 2026
URL:https://www.racba.org/activitats/classica-a-la-reial-academia-546/
LOCATION:Reial Acadèmia Catalana de Belles Arts de Sant Jordi\, Passeig d'Isabel II\, 1\, Barcelona\, Barcelona\, 08003\, Espanya
CATEGORIES:Concerts
ATTACH;FMTTYPE=image/jpeg:https://cdn1.racba.org/2025/09/2814_011-D_Joaquin-Mosteirin.jpg
END:VEVENT
BEGIN:VEVENT
DTSTART;TZID=Europe/Madrid:20260310T193000
DTEND;TZID=Europe/Madrid:20260310T203000
DTSTAMP:20260425T170306
CREATED:20260224T132525Z
LAST-MODIFIED:20260224T132525Z
UID:37188-1773171000-1773174600@www.racba.org
SUMMARY:Clàssica a la Reial Acadèmia
DESCRIPTION:534.- DUO FLORESTAN soprano i piano dimarts 10 març 19.30h HIVERN PRI… 2026
URL:https://www.racba.org/activitats/classica-a-la-reial-academia-542/
LOCATION:Reial Acadèmia Catalana de Belles Arts de Sant Jordi\, Passeig d'Isabel II\, 1\, Barcelona\, Barcelona\, 08003\, Espanya
CATEGORIES:Concerts
ATTACH;FMTTYPE=image/jpeg:https://cdn1.racba.org/2025/10/2814_100-D_Joaquin-Mosteirin.jpg
END:VEVENT
BEGIN:VEVENT
DTSTART;TZID=Europe/Madrid:20260317T193000
DTEND;TZID=Europe/Madrid:20260317T203000
DTSTAMP:20260425T170306
CREATED:20260224T132719Z
LAST-MODIFIED:20260224T132719Z
UID:37193-1773775800-1773779400@www.racba.org
SUMMARY:Clàssica a la Reial Acadèmia
DESCRIPTION:535.- TRIO JAKOB vi vc i piano dimarts 17 març febrer 19.30h HIVERN PRI…… 2026
URL:https://www.racba.org/activitats/classica-a-la-reial-academia-547/
LOCATION:Reial Acadèmia Catalana de Belles Arts de Sant Jordi\, Passeig d'Isabel II\, 1\, Barcelona\, Barcelona\, 08003\, Espanya
CATEGORIES:Concerts
ATTACH;FMTTYPE=image/jpeg:https://cdn1.racba.org/2025/10/2814_099-D_Joaquin-Mosteirin.jpg
END:VEVENT
BEGIN:VEVENT
DTSTART;TZID=Europe/Madrid:20260318T190000
DTEND;TZID=Europe/Madrid:20260318T203000
DTSTAMP:20260425T170306
CREATED:20260225T153203Z
LAST-MODIFIED:20260312T113913Z
UID:37215-1773860400-1773865800@www.racba.org
SUMMARY:Homenatge Modest Cuixart
DESCRIPTION:INVITACIO 18 MARÇ
URL:https://www.racba.org/activitats/homenatge-modest-cuixart/
LOCATION:Reial Acadèmia Catalana de Belles Arts de Sant Jordi\, Passeig d'Isabel II\, 1\, Barcelona\, Barcelona\, 08003\, Espanya
CATEGORIES:Conferències i debats,Sessions públiques
ATTACH;FMTTYPE=image/jpeg:https://cdn1.racba.org/2026/02/439_Modest-Cuixart-i-Tapies_1.jpg
END:VEVENT
BEGIN:VEVENT
DTSTART;TZID=Europe/Madrid:20260331T193000
DTEND;TZID=Europe/Madrid:20260331T203000
DTSTAMP:20260425T170306
CREATED:20260225T165258Z
LAST-MODIFIED:20260225T165258Z
UID:37221-1774985400-1774989000@www.racba.org
SUMMARY:Clàssica a la Reial Acadèmia
DESCRIPTION:537.- BORRÀS DE DALMASES oradors ARA ESCRIBANO sop i piano 31 març HIVER…A 2026
URL:https://www.racba.org/activitats/classica-a-la-reial-academia-550/
LOCATION:Reial Acadèmia Catalana de Belles Arts de Sant Jordi\, Passeig d'Isabel II\, 1\, Barcelona\, Barcelona\, 08003\, Espanya
CATEGORIES:Concerts
ATTACH;FMTTYPE=image/jpeg:https://cdn1.racba.org/2026/01/4705_Amelia-Riera_.jpg
END:VEVENT
END:VCALENDAR