BEGIN:VCALENDAR
VERSION:2.0
PRODID:-//Reial Acadèmia Catalana de Belles Arts de Sant Jordi - ECPv6.7.0//NONSGML v1.0//EN
CALSCALE:GREGORIAN
METHOD:PUBLISH
X-WR-CALNAME:Reial Acadèmia Catalana de Belles Arts de Sant Jordi
X-ORIGINAL-URL:https://www.racba.org/es/
X-WR-CALDESC:Events for Reial Acadèmia Catalana de Belles Arts de Sant Jordi
REFRESH-INTERVAL;VALUE=DURATION:PT1H
X-Robots-Tag:noindex
X-PUBLISHED-TTL:PT1H
BEGIN:VTIMEZONE
TZID:Europe/Madrid
BEGIN:DAYLIGHT
TZOFFSETFROM:+0100
TZOFFSETTO:+0200
TZNAME:CEST
DTSTART:20230326T010000
END:DAYLIGHT
BEGIN:STANDARD
TZOFFSETFROM:+0200
TZOFFSETTO:+0100
TZNAME:CET
DTSTART:20231029T010000
END:STANDARD
END:VTIMEZONE
BEGIN:VEVENT
DTSTART;TZID=Europe/Madrid:20231114T200000
DTEND;TZID=Europe/Madrid:20231114T210000
DTSTAMP:20260419T222612
CREATED:20231017T111140Z
LAST-MODIFIED:20231017T114318Z
UID:30397-1699992000-1699995600@www.racba.org
SUMMARY:Clàssica a la Reial Acadèmia
DESCRIPTION:Concierto «Nits embruixades»\, con el Duo Terracota (Jordi Roure\, viola; y Carles Herraiz\, guitarra).
URL:https://www.racba.org/es/activitats/classica-a-la-reial-academia-452/
LOCATION:Reial Acadèmia Catalana de Belles Arts de Sant Jordi\, Passeig d'Isabel II\, 1\, Barcelona\, Barcelona\, 08003\, Espanya
CATEGORIES:Concerts
END:VEVENT
BEGIN:VEVENT
DTSTART;TZID=Europe/Madrid:20231107T200000
DTEND;TZID=Europe/Madrid:20231107T210000
DTSTAMP:20260419T222612
CREATED:20231017T110828Z
LAST-MODIFIED:20231017T114514Z
UID:30406-1699387200-1699390800@www.racba.org
SUMMARY:Clàssica a la Reial Acadèmia
DESCRIPTION:Concierto «El Beethoven de la flauta travessera»\, con Jaume de Dios (flauta travesera) y Anton Serra (flauta travesera).
URL:https://www.racba.org/es/activitats/classica-a-la-reial-academia-451/
LOCATION:Reial Acadèmia Catalana de Belles Arts de Sant Jordi\, Passeig d'Isabel II\, 1\, Barcelona\, Barcelona\, 08003\, Espanya
CATEGORIES:Concerts
ATTACH;FMTTYPE=image/jpeg:https://www.racba.org/wp-content/uploads/2022/05/dolo-iglesias-FjElUqGfbAw-unsplash.jpeg
END:VEVENT
BEGIN:VEVENT
DTSTART;TZID=Europe/Madrid:20231024T200000
DTEND;TZID=Europe/Madrid:20231024T210000
DTSTAMP:20260419T222612
CREATED:20231016T232247Z
LAST-MODIFIED:20231017T114819Z
UID:30408-1698177600-1698181200@www.racba.org
SUMMARY:Clàssica a la Reial Acadèmia
DESCRIPTION:Concierto «Dones franceses compositores i deliciosament refinades»\, con Anton Serra (flauta travesera) y\nOksana Pavlova (piano).
URL:https://www.racba.org/es/activitats/classica-a-la-reial-academia-449/
LOCATION:Reial Acadèmia Catalana de Belles Arts de Sant Jordi\, Passeig d'Isabel II\, 1\, Barcelona\, Barcelona\, 08003\, Espanya
CATEGORIES:Concerts
END:VEVENT
BEGIN:VEVENT
DTSTART;TZID=Europe/Madrid:20231017T200000
DTEND;TZID=Europe/Madrid:20231017T210000
DTSTAMP:20260419T222612
CREATED:20231016T232243Z
LAST-MODIFIED:20231017T115032Z
UID:30414-1697572800-1697576400@www.racba.org
SUMMARY:Clàssica a la Reial Acadèmia
DESCRIPTION:Concierto «Diàleg a quatre mans: La Viena de Mozart i Schubert»\, con Sánchez & Fortuny Piano Duo (Júlia Fortuny\, piano; y Bernat Sánchez\, piano).
URL:https://www.racba.org/es/activitats/classica-a-la-reial-academia-448/
LOCATION:Reial Acadèmia Catalana de Belles Arts de Sant Jordi\, Passeig d'Isabel II\, 1\, Barcelona\, Barcelona\, 08003\, Espanya
CATEGORIES:Concerts
ATTACH;FMTTYPE=image/jpeg:https://www.racba.org/wp-content/uploads/2022/05/dolo-iglesias-FjElUqGfbAw-unsplash.jpeg
END:VEVENT
END:VCALENDAR